BEGIN:VCALENDAR
VERSION:2.0
PRODID:-//Universidad Tecnológica de Ciudad Juárez - ECPv6.15.20//NONSGML v1.0//EN
CALSCALE:GREGORIAN
METHOD:PUBLISH
X-WR-CALNAME:Universidad Tecnológica de Ciudad Juárez
X-ORIGINAL-URL:https://www.utcj.edu.mx
X-WR-CALDESC:Eventos para Universidad Tecnológica de Ciudad Juárez
REFRESH-INTERVAL;VALUE=DURATION:PT1H
X-Robots-Tag:noindex
X-PUBLISHED-TTL:PT1H
BEGIN:VTIMEZONE
TZID:UTC
BEGIN:STANDARD
TZOFFSETFROM:+0000
TZOFFSETTO:+0000
TZNAME:UTC
DTSTART:20250101T000000
END:STANDARD
END:VTIMEZONE
BEGIN:VEVENT
DTSTART;TZID=UTC:20260430T160000
DTEND;TZID=UTC:20260430T170000
DTSTAMP:20260421T114444
CREATED:20260420T175425Z
LAST-MODIFIED:20260420T175443Z
UID:16626-1777564800-1777568400@www.utcj.edu.mx
SUMMARY:Curso de Inducción – Modalidad Mixta | Nuevo Ingreso Mayo-Agosto 2026
DESCRIPTION:La Universidad Tecnológica de Ciudad Juárez invita a los estudiantes de nuevo ingreso al Curso de Inducción sobre el uso de la plataforma en modalidad mixta. \n\n\n\nEste curso es fundamental para conocer el funcionamiento de la plataforma digital que se utilizará durante el cuatrimestre\, así como para resolver dudas sobre la modalidad de estudio. \n\n\n\n\n\n\n\n📅 Detalles del evento\n\n\n\n\nEvento: Curso de inducción (uso de plataforma)\n\n\n\nDirigido a: Estudiantes de nuevo ingreso\n\n\n\nCuatrimestre: Mayo – Agosto 2026\n\n\n\nFecha: 30 de abril\n\n\n\nLugar: Aula Magna\n\n\n\nHorario: 16:00 a 18:00 hrs\n\n\n\n\n\n\n\n\n⚠️ Importante\n\n\n\nLa asistencia es obligatoria\, ya que en este curso se brindará información clave para el correcto inicio de clases en modalidad mixta.
URL:https://www.utcj.edu.mx/event/16626/
CATEGORIES:Eventos Académicos
ATTACH;FMTTYPE=image/jpeg:https://www.utcj.edu.mx/wp-content/uploads/2026/04/297f3d06-9bce-4143-8c45-82f2f0d17194.jpg
END:VEVENT
END:VCALENDAR